BEGIN:VCALENDAR
VERSION:2.0
PRODID:-//Eventin//Event Calendar//EN
CALSCALE:GREGORIAN
METHOD:PUBLISH
BEGIN:VEVENT
UID:f803d7ae3ea8e44a22e7dfb8d0de0613@seminarsaham.my
SUMMARY:Seminar Saham From Zero To Hero June 2026
DESCRIPTION:
LOCATION:Dewan Seminar AF Training\, Nilai (bersemuka) 
DTSTAMP:20260422T155824Z
DTSTART:20260627T010000Z
DTEND:20260628T093000Z
END:VEVENT
END:VCALENDAR
